Workbook

Sheet Budgeting Tool
A1: Objective of this budget tool | D1: NEW Planning done at the beginning of the month (both income and expenses)
A2: 1. To keep an eye on the income from various sources and expenses -- MOM basis
A3: 2. To see the PFTM and AFTM, and differences | D3: NEW Provision to keep storage of the monthly Plan versus Actual status for a few years
A4: 3. Tracking on daily basis and the summation also daily basis
A5: 4. Totalling the daily data for each week and summation as on date
A6: 5. Linked to Goals
A7: MY ASSETZ | PERSONAL FINANCIAL BUDGET & CASH FLOW PLANNER
A8: Budget for the month of ____________________
A9: Income heads | B9: Plan | C9: Actual income | J9: Plan Minus Actual | L9: Annual Budget -- year ----------------
D10: Week 1 | E10: Week 2 | F10: Week 3 | G10: Week 4 | H10: Week 5 | I10: Month total | J10: Plan Minus Actual | L10: Cumulative Plan total | M10: Cumulative Actual total | N10: Plan Minus Actual
A11: Salary | I11: =SUM(D11:H11) -> 0 | J11: =B11-I11 -> 0 | N11: =L11-M11 -> 0
A12: Rental | I12: =SUM(D12:H12) -> 0 | J12: =B12-I12 -> 0 | N12: =L12-M12 -> 0
A13: Business | I13: =SUM(D13:H13) -> 0 | J13: =B13-I13 -> 0 | N13: =L13-M13 -> 0
A14: Capital gain | I14: =SUM(D14:H14) -> 0 | J14: =B14-I14 -> 0 | N14: =L14-M14 -> 0
A15: Others | I15: =SUM(D15:H15) -> 0 | J15: =B15-I15 -> 0 | N15: =L15-M15 -> 0
A16: Total | B16: =SUM(B11:B15) -> 0 | C16: =SUM(C11:C15) -> 0 | D16: =SUM(D11:D15) -> 0 | E16: =SUM(E11:E15) -> 0 | F16: =SUM(F11:F15) -> 0 | G16: =SUM(G11:G15) -> 0 | H16: =SUM(H11:H15) -> 0 | I16: =SUM(I11:I15) -> 0 | J16: =SUM(J11:J15) -> 0 | L16: =SUM(L11:L15) -> 0 | M16: =SUM(M11:M15) -> 0 | N16: =SUM(N11:N15) -> 0
A17: Expenses | L17: Annual Expenses
A18: Heads | B18: Sub heads | C18: Plan | D18: Week 1 | E18: Week 2 | F18: Week 3 | G18: Week 4 | H18: Week 5 | I18: Month total | J18: Savings / overspent | L18: Cumulative Plan total | M18: Cumulative Actual total | N18: Plan Minus Actual
A19: Housing | B19: Rent | I19: =SUM(D19:H19) -> 0 | J19: =C19-I19 -> 0 | N19: =L19-M19 -> 0
B20: Second mortgage or rent | I20: =SUM(D20:H20) -> 0 | J20: =C20-I20 -> 0 | N20: =L20-M20 -> 0
B21: Electricity | I21: =SUM(D21:H21) -> 0 | J21: =C21-I21 -> 0 | N21: =L21-M21 -> 0
B22: Gas | I22: =SUM(D22:H22) -> 0 | J22: =C22-I22 -> 0 | N22: =L22-M22 -> 0
B23: Water and sewer | I23: =SUM(D23:H23) -> 0 | J23: =C23-I23 -> 0 | N23: =L23-M23 -> 0
B24: House and Water | I24: =SUM(D24:H24) -> 0 | J24: =C24-I24 -> 0 | N24: =L24-M24 -> 0
B25: Waste removal | I25: =SUM(D25:H25) -> 0 | J25: =C25-I25 -> 0 | N25: =L25-M25 -> 0
B26: Maintenance or repairs | I26: =SUM(D26:H26) -> 0 | J26: =C26-I26 -> 0 | N26: =L26-M26 -> 0
B27: Servant / maid | I27: =SUM(D27:H27) -> 0 | J27: =C27-I27 -> 0 | N27: =L27-M27 -> 0
B28: Monthly maintenance | I28: =SUM(D28:H28) -> 0 | J28: =C28-I28 -> 0 | N28: =L28-M28 -> 0
B29: Gardening | I29: =SUM(D29:H29) -> 0 | J29: =C29-I29 -> 0 | N29: =L29-M29 -> 0
B30: Total | C30: =SUM(C19:C29) -> 0 | D30: =SUM(D19:D29) -> 0 | E30: =SUM(E19:E29) -> 0 | F30: =SUM(F19:F29) -> 0 | G30: =SUM(G19:G29) -> 0 | H30: =SUM(H19:H29) -> 0 | I30: =SUM(I19:I29) -> 0 | J30: =SUM(J19:J29) -> 0 | L30: =SUM(L19:L29) -> 0 | M30: =SUM(M19:M29) -> 0 | N30: =SUM(N19:N29) -> 0
A31: Food | B31: Groceries | I31: =SUM(D31:H31) -> 0 | J31: =C31-I31 -> 0 | N31: =L31-M31 -> 0
B32: Dining out | I32: =SUM(D32:H32) -> 0 | J32: =C32-I32 -> 0 | N32: =L32-M32 -> 0
B33: Vegetables / fruits | I33: =SUM(D33:H33) -> 0 | J33: =C33-I33 -> 0 | N33: =L33-M33 -> 0
B34: Snacks etc | I34: =SUM(D34:H34) -> 0 | J34: =C34-I34 -> 0 | N34: =L34-M34 -> 0
B35: Meat etc | I35: =SUM(D35:H35) -> 0 | J35: =C35-I35 -> 0 | N35: =L35-M35 -> 0
B36: Total | C36: =SUM(C31:C35) -> 0 | D36: =SUM(D31:D35) -> 0 | E36: =SUM(E31:E35) -> 0 | F36: =SUM(F31:F35) -> 0 | G36: =SUM(G31:G35) -> 0 | H36: =SUM(H31:H35) -> 0 | I36: =SUM(I31:I35) -> 0 | J36: =SUM(J31:J35) -> 0 | L36: =SUM(L31:L35) -> 0 | M36: =SUM(M31:M35) -> 0 | N36: =SUM(N31:N35) -> 0
A37: Children | B37: Medical | I37: =SUM(D37:H37) -> 0 | J37: =C37-I37 -> 0 | N37: =L37-M37 -> 0
B38: Clothing children related only | I38: =SUM(D38:H38) -> 0 | J38: =C38-I38 -> 0 | N38: =L38-M38 -> 0
B39: Evening tuition expenses | I39: =SUM(D39:H39) -> 0 | J39: =C39-I39 -> 0 | N39: =L39-M39 -> 0
B40: School tuition | I40: =SUM(D40:H40) -> 0 | J40: =C40-I40 -> 0 | N40: =L40-M40 -> 0
...

Sheet Dashboard
A1: MY ASSETZ
A2: Monthly Financial Dashboard
A4: Total Income - Actual | B4: ='Budgeting Tool'!I16 -> 0
A5: Total Expenses - Actual | B5: ='Budgeting Tool'!I144 -> 0
A6: Net Cash Flow | B6: ='Budgeting Tool'!C146 -> 0
A9: Expense Category | B9: Actual
A10: Housing | B10: ='Budgeting Tool'!I30 -> 0
A11: Food | B11: ='Budgeting Tool'!I36 -> 0
A12: Children | B12: ='Budgeting Tool'!I49 -> 0
A13: Communication | B13: ='Budgeting Tool'!I56 -> 0
A14: Transportation | B14: ='Budgeting Tool'!I65 -> 0
A15: Entertainment | B15: ='Budgeting Tool'!I74 -> 0
A16: Supports to dependents | B16: ='Budgeting Tool'!I78 -> 0
A17: Personal Care | B17: ='Budgeting Tool'!I86 -> 0
A18: Replacement expenses | B18: ='Budgeting Tool'!I93 -> 0
A19: Taxes - all | B19: ='Budgeting Tool'!I102 -> 0
A20: Savings or Investments | B20: ='Budgeting Tool'!I112 -> 0
A21: Loans repayment | B21: ='Budgeting Tool'!I123 -> 0
A22: Insurance | B22: ='Budgeting Tool'!I129 -> 0
A23: Personal | B23: ='Budgeting Tool'!I135 -> 0
A24: Charity | B24: ='Budgeting Tool'!I139 -> 0
A25: Others | B25: ='Budgeting Tool'!I143 -> 0
